BEGIN:VCALENDAR
METHOD:PUBLISH
PRODID:-//github.com/rianjs/ical.net//NONSGML ical.net 4.0//EN
VERSION:2.0
X-WR-CALNAME:Longfellow Elementary PTA
BEGIN:VEVENT
CREATED:20260413T190249
DTEND:20260501T020000Z
DTSTAMP:20260421T081602Z
DTSTART:20260501T000000Z
LAST-MODIFIED:20260413T190556
SEQUENCE:0
STATUS:CONFIRMED
SUMMARY:Intermediate/Advanced Violin & Band Concert
TRANSP:TRANSPARENT
UID:145534@ourschoolpages.com
END:VEVENT
END:VCALENDAR
