BEGIN:VCALENDAR
METHOD:PUBLISH
PRODID:-//github.com/rianjs/ical.net//NONSGML ical.net 4.0//EN
VERSION:2.0
X-WR-CALNAME:Longfellow Elementary PTA
BEGIN:VEVENT
CREATED:20260413T190218
DTEND:20260430T020000Z
DTSTAMP:20260421T080957Z
DTSTART:20260430T000000Z
LAST-MODIFIED:20260413T190218
SEQUENCE:0
STATUS:CONFIRMED
SUMMARY:Beginning Violin Concert
TRANSP:TRANSPARENT
UID:145533@ourschoolpages.com
END:VEVENT
END:VCALENDAR
